BEGIN:VCALENDAR
VERSION:2.0
PRODID:-//Tukios.com/
BEGIN:VEVENT
UID:ddc287a9-bc31-42b1-8013-c804628b5edc@www.masonbrothersfuneralservices.com
DTSTAMP:20260421T233513Z
DTSTART:20260426T180000Z
DTEND:20260426T190000Z
SUMMARY:Memorial Service
DESCRIPTION:
URL:https://www.masonbrothersfuneralservices.com/obituaries/denita-miles
LOCATION: 1001 Lincoln Ave.  Evansville IN 47714
GEO:37.9696579;-87.5472728
END:VEVENT
END:VCALENDAR