BEGIN:VCALENDAR
VERSION:2.0
PRODID:-//Tukios.com/
BEGIN:VEVENT
UID:5afaac2c-5ff8-412b-bdc9-83b6e234c9b3@www.masonbrothersfuneralservices.com
DTSTAMP:20260421T175454Z
DTSTART:20260425
SUMMARY:Burial
DESCRIPTION:
URL:https://www.masonbrothersfuneralservices.com/obituaries/adrian-brown
LOCATION:   Earlington KY 42410
GEO:37.2738417;-87.5123797
END:VEVENT
END:VCALENDAR