BEGIN:VCALENDAR
VERSION:2.0
PRODID:-//Tukios.com/
BEGIN:VEVENT
UID:54615d0a-68e5-424b-841c-842740e02abd@www.masonbrothersfuneralservices.com
DTSTAMP:20260421T180351Z
DTSTART:20260425T180000Z
DTEND:20260425T190000Z
SUMMARY:Funeral Service
DESCRIPTION:
URL:https://www.masonbrothersfuneralservices.com/obituaries/adrian-brown
LOCATION: 108 Burton Lane  Earlington KY 42410
GEO:37.276405;-87.5131142
END:VEVENT
END:VCALENDAR