BEGIN:VCALENDAR
VERSION:2.0
PRODID:-//Tukios.com/
BEGIN:VEVENT
UID:fbba06bd-a395-464d-8018-ae4683e1555e@www.masonbrothersfuneralservices.com
DTSTAMP:20260421T180122Z
DTSTART:20260425T160000Z
DTEND:20260425T180000Z
SUMMARY:Visitation
DESCRIPTION:
URL:https://www.masonbrothersfuneralservices.com/obituaries/adrian-brown
LOCATION: 108 Burton Lane  Earlington KY 42410
GEO:37.276405;-87.5131142
END:VEVENT
END:VCALENDAR